BEGIN:VCALENDAR
VERSION:2.0
PRODID:-//eventon.com NONSGML v1.0//EN
CALSCALE:GREGORIAN
METHOD:PUBLISH
BEGIN:VEVENT
UID:69e9f35d0b1e5
DTSTAMP:20260423T052429
DTSTART:20260501T090000Z
DTEND:20260501T100000Z
TZID:Pacific/Midway
LOCATION:
SUMMARY:Blue Belt: Assessing Multiple Targets from a Concealed Holster
DESCRIPTION:Class Objective: Learn how to transition from target to target when operating from concealment.  Select Dates\nhttps://therangeaustin.com/events/blue-belt-assessing-multiple-targets-from-concealment/var/ri-8.l-L1
URL:https://therangeaustin.com/events/blue-belt-assessing-multiple-targets-from-concealment/var/ri-8.l-L1
END:VEVENT
END:VCALENDAR