BEGIN:VCALENDAR
VERSION:2.0
PRODID:-//eventon.com NONSGML v1.0//EN
CALSCALE:GREGORIAN
METHOD:PUBLISH
BEGIN:VEVENT
UID:69e9f530bfe3d
DTSTAMP:20260423T053216
DTSTART:20260427T103000Z
DTEND:20260427T113000Z
TZID:Pacific/Midway
LOCATION:
SUMMARY:White Belt: Reloads & Malfunctions
DESCRIPTION:Class Objective: Begin development of the ability to fire multiple rounds without stopping\,  efficiently resolve malfunctions and rebuild a shooting grip quickly in order to continue firing when needed. Select Dates\nhttps://therangeaustin.com/events/white-belt-reloads-and-malfunctions/var/ri-9.l-L1
URL:https://therangeaustin.com/events/white-belt-reloads-and-malfunctions/var/ri-9.l-L1
END:VEVENT
END:VCALENDAR