BEGIN:VCALENDAR
VERSION:2.0
PRODID:-//eventon.com NONSGML v1.0//EN
CALSCALE:GREGORIAN
METHOD:PUBLISH
BEGIN:VEVENT
UID:69e9f444388dd
DTSTAMP:20260423T052820
DTSTART:20260427T120000Z
DTEND:20260427T130000Z
TZID:Pacific/Midway
LOCATION:
SUMMARY:White Belt: Balancing Speed and Accuracy
DESCRIPTION:Class Objective: Learn diagnostic techniques for self-evaluation\,  firing multiple shots with imperfect or incomplete sight pictures (“shot-calling”)\,  transitions\,  and evaluating shot efficacy in real time. Select Dates\nhttps://therangeaustin.com/events/white-belt-balancing-speed-and-accuracy/var/ri-12.l-L1
URL:https://therangeaustin.com/events/white-belt-balancing-speed-and-accuracy/var/ri-12.l-L1
END:VEVENT
END:VCALENDAR