BEGIN:VCALENDAR
VERSION:2.0
PRODID:-//eventon.com NONSGML v1.0//EN
CALSCALE:GREGORIAN
METHOD:PUBLISH
BEGIN:VEVENT
UID:69e9f4862970a
DTSTAMP:20260423T052926
DTSTART:20260427T090000Z
DTEND:20260427T100000Z
TZID:Pacific/Midway
LOCATION:
SUMMARY:White Belt Introduction: Safety and Shooting Foundations
DESCRIPTION:Class Objective: Gain an introductory understanding of Defensive Mindset and Situational Awareness in the context of handgun use. Select Dates\nhttps://therangeaustin.com/events/white-belt-introduction-safety-and-shooting-foundations/var/ri-17.l-L1
URL:https://therangeaustin.com/events/white-belt-introduction-safety-and-shooting-foundations/var/ri-17.l-L1
END:VEVENT
END:VCALENDAR